BEGIN:VCALENDAR
VERSION:2.0
PRODID:-//PYVOBJECT//NONSGML Version 1//EN
BEGIN:VEVENT
UID:28472:5792
DTSTART:20171215T000000
DTEND:20181231T000000
DESCRIPTION:
DTSTAMP:20260419T204137Z
SUMMARY:täglich Mittagsmenü von 11:30 - 13:30
END:VEVENT
END:VCALENDAR
