BEGIN:VCALENDAR
VERSION:2.0
PRODID:-//PYVOBJECT//NONSGML Version 1//EN
BEGIN:VEVENT
UID:28472:5791
DTSTART:20171215T000000
DTEND:20180103T000000
DESCRIPTION:\n	24.12.2017 geschlossen\n	25.\,26.12.2017 mittags ge&ouml\;ff
 net\n	27.12.2017 geschlossen (Ruhetag)\n	31.12.2017 bis 22h ge&ouml\;ffnet
 \n	1.1.2018 geschlossen\n	2.1.2018 ge&ouml\;ffnet\n	3.1.2018 geschlossen (
 Ruhetag)\n	&nbsp\;\n
DTSTAMP:20260424T065140Z
SUMMARY:Feiertagsöffnungszeiten
END:VEVENT
END:VCALENDAR
